BEGIN:VCALENDAR
VERSION:2.0
PRODID:gruene-steinburg.de
METHOD:PUBLISH
BEGIN:VTIMEZONE
TZID:Europe/Berlin
X-LIC-LOCATION:Europe/Berlin
BEGIN:DAYLIGHT
TZOFFSETFROM:+0100
TZOFFSETTO:+0200
TZNAME:CEST
DTSTART:19700329T020000
RRULE:FREQ=YEARLY;INTERVAL=1;BYDAY=-1SU;BYMONTH=3
END:DAYLIGHT
BEGIN:STANDARD
TZOFFSETFROM:+0200
TZOFFSETTO:+0100
TZNAME:CET
DTSTART:19701025T030000
RRULE:FREQ=YEARLY;INTERVAL=1;BYDAY=-1SU;BYMONTH=10
END:STANDARD
END:VTIMEZONE
BEGIN:VEVENT
UID:b06d0491d019c57fa3845073d63f3f38@gruene-steinburg.de
URL;VALUE=URI:https://gruene-steinburg.de/termine/wahlparty-im-gruenen-tr
 eff/
LOCATION:Grüner Treff, Reichenstraße 11, Itzehoe
SUMMARY:Wahlparty im Grünen Treff
DESCRIPTION;ALTREP="data:text/html,":
CLASS:PUBLIC
DTSTART;TZID=Europe/Berlin:20230514T183000
DTEND;TZID=Europe/Berlin:20230514T193000
DTSTAMP:20260419T190631
END:VEVENT
END:VCALENDAR