BEGIN:VCALENDAR
VERSION:2.0
PRODID:gruene-steinburg.de
METHOD:PUBLISH
BEGIN:VTIMEZONE
TZID:Europe/Berlin
X-LIC-LOCATION:Europe/Berlin
BEGIN:DAYLIGHT
TZOFFSETFROM:+0100
TZOFFSETTO:+0200
TZNAME:CEST
DTSTART:19700329T020000
RRULE:FREQ=YEARLY;INTERVAL=1;BYDAY=-1SU;BYMONTH=3
END:DAYLIGHT
BEGIN:STANDARD
TZOFFSETFROM:+0200
TZOFFSETTO:+0100
TZNAME:CET
DTSTART:19701025T030000
RRULE:FREQ=YEARLY;INTERVAL=1;BYDAY=-1SU;BYMONTH=10
END:STANDARD
END:VTIMEZONE
BEGIN:VEVENT
UID:c129796080ab558f8d4d7c41990ce1f6@gruene-steinburg.de
URL;VALUE=URI:https://gruene-steinburg.de/termine/wahlkampfteam-online-2/
LOCATION:
SUMMARY:Wahlkampfrückschau – Online
DESCRIPTION;ALTREP="data:text/html,%0A%3Cp%3ER%C3%BCckschau%20Wahlkampf%3
 C%2Fp%3E%0A":Rückschau Wahlkampf
CLASS:PUBLIC
DTSTART;TZID=Europe/Berlin:20250225T190000
DTEND;TZID=Europe/Berlin:20250225T200000
DTSTAMP:20260422T081439
END:VEVENT
END:VCALENDAR