BEGIN:VCALENDAR
VERSION:2.0
PRODID:gruene-steinburg.de
METHOD:PUBLISH
BEGIN:VTIMEZONE
TZID:Europe/Berlin
X-LIC-LOCATION:Europe/Berlin
BEGIN:DAYLIGHT
TZOFFSETFROM:+0100
TZOFFSETTO:+0200
TZNAME:CEST
DTSTART:19700329T020000
RRULE:FREQ=YEARLY;INTERVAL=1;BYDAY=-1SU;BYMONTH=3
END:DAYLIGHT
BEGIN:STANDARD
TZOFFSETFROM:+0200
TZOFFSETTO:+0100
TZNAME:CET
DTSTART:19701025T030000
RRULE:FREQ=YEARLY;INTERVAL=1;BYDAY=-1SU;BYMONTH=10
END:STANDARD
END:VTIMEZONE
BEGIN:VEVENT
UID:02b59994cbc7173026867e8f3b9f8a1c@gruene-steinburg.de
URL;VALUE=URI:https://gruene-steinburg.de/termine/vorstandssitzung-kv/
LOCATION:Grüner Treff
SUMMARY:Vorstandssitzung KV
DESCRIPTION;ALTREP="data:text/html,%0A%3Cp%3EDie%20Vorstandssitzung%20ist
 %20partei%C3%B6ffentlich.%3C%2Fp%3E%0A":Die Vorstandssitzung ist parteiö
 ffentlich.
CLASS:PUBLIC
DTSTART;TZID=Europe/Berlin:20250109T190000
DTEND;TZID=Europe/Berlin:20250109T210000
DTSTAMP:20260422T081413
END:VEVENT
END:VCALENDAR