BEGIN:VCALENDAR
VERSION:2.0
PRODID:gruene-steinburg.de
METHOD:PUBLISH
BEGIN:VTIMEZONE
TZID:Europe/Berlin
X-LIC-LOCATION:Europe/Berlin
BEGIN:DAYLIGHT
TZOFFSETFROM:+0100
TZOFFSETTO:+0200
TZNAME:CEST
DTSTART:19700329T020000
RRULE:FREQ=YEARLY;INTERVAL=1;BYDAY=-1SU;BYMONTH=3
END:DAYLIGHT
BEGIN:STANDARD
TZOFFSETFROM:+0200
TZOFFSETTO:+0100
TZNAME:CET
DTSTART:19701025T030000
RRULE:FREQ=YEARLY;INTERVAL=1;BYDAY=-1SU;BYMONTH=10
END:STANDARD
END:VTIMEZONE
BEGIN:VEVENT
UID:7e0ddc2957803a768324cdc16e15c532@gruene-steinburg.de
URL;VALUE=URI:https://gruene-steinburg.de/termine/jahresabschlussfeier-20
 22/
LOCATION:Grüner Treff, Reichenstr 11, 25524 Itzehoe
SUMMARY:Jahresabschlussfeier 2022
DESCRIPTION;ALTREP="data:text/html,%0A%3Cp%3Egerne%20m%C3%B6chten%20wir%2
 0euch%20zu%20unserer%20%3Cstrong%3EJahresabschlussfeier%20%3C%2Fstrong%3E
 einladen.%3C%2Fp%3E%0A%0A%0A%0A%3Cp%3EDiese%20findet%20am%20%3Cstrong%3EF
 reitag%2C%20den%2016.%20Dezember%3C%2Fstrong%3E%2C%20ab%20%3Cstrong%3E19%
 3A00%20Uhr%20%3C%2Fstrong%3Eim%20%3Cstrong%3EGr%C3%BCnen%20Treff%3C%2Fstr
 ong%3E%20statt.%3C%2Fp%3E%0A%0A%0A%0A%3Cp%3EWir%20m%C3%B6chten%20mit%20eu
 ch%20gemeinsam%20den%20Film%20%22%3Cstrong%3EDas%20Leben%20des%20Brian%3C
 %2Fstrong%3E%22%20%28Life%20of%20Brian%29%20von%20Monty%20Python%20gucken
 .%3C%2Fp%3E%0A%0A%0A%0A%3Cp%3EGerne%20m%C3%B6chten%20wir%20dabei%20ein%20
 %3Cstrong%3Ekleines%20Buffet%3C%2Fstrong%3E%20anbieten%3A%20jede%3Ar%20br
 ingt%20einfach%20etwas%20mit%2C%20das%20gut%20zu%20einem%20%3Cstrong%3EFi
 lmabend%20%3C%2Fstrong%3Epasst%2C%20und%20worauf%20ihr%20Lust%20habt%20-%
 20Getr%C3%A4nke%20sind%20vor%20Ort.%3C%2Fp%3E%0A":gerne möchten wir euch
  zu unserer Jahresabschlussfeier einladen.\n\nDiese findet am Freitag\, d
 en 16. Dezember\, ab 19:00 Uhr im Grünen Treff statt.\n\nWir möchten mi
 t euch gemeinsam den Film "Das Leben des Brian" (Life of Brian) von Monty
  Python gucken.\n\nGerne möchten wir dabei ein kleines Buffet anbieten: 
 jede:r bringt einfach etwas mit\, das gut zu einem Filmabend passt\, und 
 worauf ihr Lust habt - Getränke sind vor Ort.
CLASS:PUBLIC
DTSTART;TZID=Europe/Berlin:20221216T190000
DTEND;TZID=Europe/Berlin:20221216T230000
DTSTAMP:20260422T080816
END:VEVENT
END:VCALENDAR