BEGIN:VCALENDAR
VERSION:2.0
PRODID:gruene-steinburg.de
METHOD:PUBLISH
BEGIN:VTIMEZONE
TZID:Europe/Berlin
X-LIC-LOCATION:Europe/Berlin
BEGIN:DAYLIGHT
TZOFFSETFROM:+0100
TZOFFSETTO:+0200
TZNAME:CEST
DTSTART:19700329T020000
RRULE:FREQ=YEARLY;INTERVAL=1;BYDAY=-1SU;BYMONTH=3
END:DAYLIGHT
BEGIN:STANDARD
TZOFFSETFROM:+0200
TZOFFSETTO:+0100
TZNAME:CET
DTSTART:19701025T030000
RRULE:FREQ=YEARLY;INTERVAL=1;BYDAY=-1SU;BYMONTH=10
END:STANDARD
END:VTIMEZONE
BEGIN:VEVENT
UID:389b949a1fb2140245794eac8c89b910@gruene-steinburg.de
URL;VALUE=URI:https://gruene-steinburg.de/termine/itzehoe-infostand-zur-e
 uropawahl-10/
LOCATION:Markt, Marienburger Platz, Itzehoe
SUMMARY:Itzehoe: Infostand zur Europawahl
DESCRIPTION;ALTREP="data:text/html,%0A%3Cp%3EOrt%3A%20Wochenmarkt%20Marie
 nburger%20Platz%3C%2Fp%3E%0A":Ort: Wochenmarkt Marienburger Platz
CLASS:PUBLIC
DTSTART;TZID=Europe/Berlin:20240608T100000
DTEND;TZID=Europe/Berlin:20240608T130000
DTSTAMP:20260422T081445
END:VEVENT
END:VCALENDAR