BEGIN:VCALENDAR
VERSION:2.0
PRODID:gruene-steinburg.de
METHOD:PUBLISH
BEGIN:VTIMEZONE
TZID:Europe/Berlin
X-LIC-LOCATION:Europe/Berlin
BEGIN:DAYLIGHT
TZOFFSETFROM:+0100
TZOFFSETTO:+0200
TZNAME:CEST
DTSTART:19700329T020000
RRULE:FREQ=YEARLY;INTERVAL=1;BYDAY=-1SU;BYMONTH=3
END:DAYLIGHT
BEGIN:STANDARD
TZOFFSETFROM:+0200
TZOFFSETTO:+0100
TZNAME:CET
DTSTART:19701025T030000
RRULE:FREQ=YEARLY;INTERVAL=1;BYDAY=-1SU;BYMONTH=10
END:STANDARD
END:VTIMEZONE
BEGIN:VEVENT
UID:737546f729cdea72ffbd577dcbb41343@gruene-steinburg.de
URL;VALUE=URI:https://gruene-steinburg.de/termine/glueckstadt-infostand-z
 ur-europawahl-2/
LOCATION:Wochenmarkt, Glückstadt
SUMMARY:Glückstadt: Infostand zur Europawahl
DESCRIPTION;ALTREP="data:text/html,%0A%3Cp%3EOrt%3A%20Wochenmarkt%3C%2Fp%
 3E%0A":Ort: Wochenmarkt
CLASS:PUBLIC
DTSTART;TZID=Europe/Berlin:20240524T093000
DTEND;TZID=Europe/Berlin:20240524T113000
DTSTAMP:20260422T081512
END:VEVENT
END:VCALENDAR