BEGIN:VCALENDAR
VERSION:2.0
PRODID:gruene-steinburg.de
METHOD:PUBLISH
BEGIN:VTIMEZONE
TZID:Europe/Berlin
X-LIC-LOCATION:Europe/Berlin
BEGIN:DAYLIGHT
TZOFFSETFROM:+0100
TZOFFSETTO:+0200
TZNAME:CEST
DTSTART:19700329T020000
RRULE:FREQ=YEARLY;INTERVAL=1;BYDAY=-1SU;BYMONTH=3
END:DAYLIGHT
BEGIN:STANDARD
TZOFFSETFROM:+0200
TZOFFSETTO:+0100
TZNAME:CET
DTSTART:19701025T030000
RRULE:FREQ=YEARLY;INTERVAL=1;BYDAY=-1SU;BYMONTH=10
END:STANDARD
END:VTIMEZONE
BEGIN:VEVENT
UID:ebbec0dfee1348d05c32597777a5e8d7@gruene-steinburg.de
URL;VALUE=URI:https://gruene-steinburg.de/termine/europawahl-2024-wie-fun
 ktioniert-eigentlich-europa/
LOCATION:Multifunktionsraum der Jacob-Struve-Schule (JSS), Heisterender W
 eg 19, Horst
SUMMARY:EUROPAWAHL 2024: Wie funktioniert eigentlich Europa?
DESCRIPTION;ALTREP="data:text/html,%0A%3Cp%3EBeschl%C3%BCsse%20der%20Euro
 p%C3%A4ischen%20Union%20pr%C3%A4gen%20unser%20politisches%2C%20wirtschaft
 liches%2C%20gesellschaftliches%20und%20individuelles%20Leben%20in%20viele
 rlei%20Hinsicht.%20Die%20Europ%C3%A4ische%20Union%20hat%20im%20internatio
 nalen%20Kontext%20eine%20herausragende%20Bedeutung.%20Aber%20wie%20funkti
 oniert%20die%20EU%20eigentlich%3F%20Welche%20Gremien%20gibt%20es%3F%20Wie
 %20werden%20Beschl%C3%BCsse%20gefasst%3F%20Wie%20stimmen%20die%20Fraktion
 en%20der%20Parteien%20ab%2C%20oder%20stimmen%20die%20L%C3%A4nder%20ab%3F%
 20Und%20welchen%20Einfluss%20kann%20ich%20nehmen%2C%20wenn%20ich%20an%20d
 er%20Europawahl%20teilnehme%3F%20Welches%20sind%20die%20Vorteile%20des%20
 europ%C3%A4ischen%20Zusammenschusses%3F%3C%2Fp%3E%0A%0A%0A%0A%3Cp%3EUm%20
 diese%20Fragen%20zu%20kl%C3%A4ren%2C%20haben%20wir%20%3Cstrong%3ERasmus%2
 0Andresen%3C%2Fstrong%3E%20zu%20Gast%20in%20Horst.%20Er%20geh%C3%B6rt%20d
 er%20Partei%20B%C3%BCndnis%2090%20%2F%20Die%20Gr%C3%BCnen%20an%2C%20kommt
 %20aus%20Schleswig-Holstein%20und%20ist%20seit%202019%20Mitglied%20des%20
 Europ%C3%A4ischen%20Parlaments.%20Auch%202024%20kandidiert%20er%20wieder%
 20f%C3%BCr%20die%20Europawahl.%3C%2Fp%3E%0A%0A%0A%0A%3Cp%3EEbenfalls%20vo
 r%20Ort%20sein%20wird%20I%3Cstrong%3Engrid%20Nestle%3C%2Fstrong%3E.%20Sie
 %20ist%20Mitglied%20der%20Fraktion%20der%20Gr%C3%BCnen%20%2F%20B%C3%BCndn
 is%2090%20im%3Cbr%3EBundestag%20und%20Sprecherin%20f%C3%BCr%20Klimaschutz
 %20und%20Energie.%3C%2Fp%3E%0A%0A%0A%0A%3Cp%3EBeide%20freuen%20sich%20dar
 auf%2C%20uns%20einen%20%C3%9Cberblick%20%C3%BCber%20die%20Struktur%2C%20d
 ie%20Aufgaben%20und%20die%20Ziele%20der%20Europ%C3%A4ischen%20Union%20zu%
 20geben%20und%20uns%20aber%20auch%20%C3%BCber%20ihren%20Alltag%20und%20de
 ssen%20Herausforderungen%20im%20Spannungsfeld%20Kommunal-%2C%20Landes-%20
 und%20Bundespolitik%20auf%20der%20einen%20Seite%20und%20Europapolitik%20a
 uf%20der%20anderen%20Seite%20zu%20berichten.%3C%2Fp%3E%0A%0A%0A%0A%3Cp%3E
 Wir%20freuen%20uns%20auf%20einen%20kurzweiligen%2C%20informativen%20Abend
 %20mit%20anschlie%C3%9Fender%20Diskussion.%20F%C3%BCr%20das%3Cbr%3Eleibli
 che%20Wohl%20halten%20wir%20Getr%C3%A4nke%20und%20einen%20kleinen%20Snack
 %20bereit.%3C%2Fp%3E%0A":Beschlüsse der Europäischen Union prägen unse
 r politisches\, wirtschaftliches\, gesellschaftliches und individuelles L
 eben in vielerlei Hinsicht. Die Europäische Union hat im internationalen
  Kontext eine herausragende Bedeutung. Aber wie funktioniert die EU eigen
 tlich? Welche Gremien gibt es? Wie werden Beschlüsse gefasst? Wie stimme
 n die Fraktionen der Parteien ab\, oder stimmen die Länder ab? Und welch
 en Einfluss kann ich nehmen\, wenn ich an der Europawahl teilnehme? Welch
 es sind die Vorteile des europäischen Zusammenschusses?\n\nUm diese Frag
 en zu klären\, haben wir Rasmus Andresen zu Gast in Horst. Er gehört de
 r Partei Bündnis 90 / Die Grünen an\, kommt aus Schleswig-Holstein und 
 ist seit 2019 Mitglied des Europäischen Parlaments. Auch 2024 kandidiert
  er wieder für die Europawahl.\n\nEbenfalls vor Ort sein wird Ingrid Nes
 tle. Sie ist Mitglied der Fraktion der Grünen / Bündnis 90 imBundestag 
 und Sprecherin für Klimaschutz und Energie.\n\nBeide freuen sich darauf\
 , uns einen Überblick über die Struktur\, die Aufgaben und die Ziele de
 r Europäischen Union zu geben und uns aber auch über ihren Alltag und d
 essen Herausforderungen im Spannungsfeld Kommunal-\, Landes- und Bundespo
 litik auf der einen Seite und Europapolitik auf der anderen Seite zu beri
 chten.\n\nWir freuen uns auf einen kurzweiligen\, informativen Abend mit 
 anschließender Diskussion. Für dasleibliche Wohl halten wir Getränke u
 nd einen kleinen Snack bereit.
CLASS:PUBLIC
DTSTART;TZID=Europe/Berlin:20240506T190000
DTEND;TZID=Europe/Berlin:20240506T203000
DTSTAMP:20260425T125003
END:VEVENT
END:VCALENDAR