BEGIN:VCALENDAR
VERSION:2.0
PRODID:gruene-steinburg.de
METHOD:PUBLISH
BEGIN:VTIMEZONE
TZID:Europe/Berlin
X-LIC-LOCATION:Europe/Berlin
BEGIN:DAYLIGHT
TZOFFSETFROM:+0100
TZOFFSETTO:+0200
TZNAME:CEST
DTSTART:19700329T020000
RRULE:FREQ=YEARLY;INTERVAL=1;BYDAY=-1SU;BYMONTH=3
END:DAYLIGHT
BEGIN:STANDARD
TZOFFSETFROM:+0200
TZOFFSETTO:+0100
TZNAME:CET
DTSTART:19701025T030000
RRULE:FREQ=YEARLY;INTERVAL=1;BYDAY=-1SU;BYMONTH=10
END:STANDARD
END:VTIMEZONE
BEGIN:VEVENT
UID:e6cffa08b3d4f2679cb012357a943ac1@gruene-steinburg.de
URL;VALUE=URI:https://gruene-steinburg.de/termine/auftakttreffen-des-wahl
 kampfteams/
LOCATION:
SUMMARY:Auftakttreffen des Wahlkampfteams
DESCRIPTION;ALTREP="data:text/html,%0A%3Cp%3EZum%20Wahlkampfteam%20sind%2
 0alle%20herzlich%20eingeladen%2C%20die%20aktiv%20an%20der%20Planung%20und
 %20Durchf%C3%BChrung%20unseres%20Bundestagswahlkampfes%20teilnehmen%20m%C
 3%B6chten.%3Cbr%3EWir%20planen%20und%20organisieren%20unseren%20Wahlkampf
 %2C%20%C3%BCberlegen%20uns%2C%20was%20wir%20im%20Wahlkampf%20machen%20wol
 len%2C%20und%20wie%20wir%20unsere%20finanziellen%20Mittel%20am%20besten%2
 0einsetzen.%3C%2Fp%3E%0A":Zum Wahlkampfteam sind alle herzlich eingeladen
 \, die aktiv an der Planung und Durchführung unseres Bundestagswahlkampf
 es teilnehmen möchten.Wir planen und organisieren unseren Wahlkampf\, ü
 berlegen uns\, was wir im Wahlkampf machen wollen\, und wie wir unsere fi
 nanziellen Mittel am besten einsetzen.
CLASS:PUBLIC
DTSTART;TZID=Europe/Berlin:20241120T190000
DTEND;TZID=Europe/Berlin:20241120T203000
DTSTAMP:20260422T080608
END:VEVENT
END:VCALENDAR