BEGIN:VCALENDAR
VERSION:2.0
PRODID:gruene-steinburg.de
METHOD:PUBLISH
BEGIN:VTIMEZONE
TZID:Europe/Berlin
X-LIC-LOCATION:Europe/Berlin
BEGIN:DAYLIGHT
TZOFFSETFROM:+0100
TZOFFSETTO:+0200
TZNAME:CEST
DTSTART:19700329T020000
RRULE:FREQ=YEARLY;INTERVAL=1;BYDAY=-1SU;BYMONTH=3
END:DAYLIGHT
BEGIN:STANDARD
TZOFFSETFROM:+0200
TZOFFSETTO:+0100
TZNAME:CET
DTSTART:19701025T030000
RRULE:FREQ=YEARLY;INTERVAL=1;BYDAY=-1SU;BYMONTH=10
END:STANDARD
END:VTIMEZONE
BEGIN:VEVENT
UID:e91d16b63699fde87436b61154855bbd@gruene-steinburg.de
URL;VALUE=URI:https://gruene-steinburg.de/termine/aufstellungsversammlung
 -wahlkreis-3/
LOCATION:Grüner Treff, Reichenstraße 11, Itzehoe
SUMMARY:Aufstellungsversammlung Wahlkreis 3
DESCRIPTION;ALTREP="data:text/html,%0A%3Cp%3EWir%20w%C3%A4hlen%20unsere%2
 Fn%20Direktkandidat%2Ain%20f%C3%BCr%20den%20Wahlkreis%203.%20Bitte%20brin
 gt%20Euren%20Personalausweis%20mit%20und%20kommt%20zahlreich%20und%20fr%C
 3%BChzeitig%20zur%20Versammlung%2C%20da%20wir%20f%C3%BCr%20die%20Wahlvers
 ammlung%20eine%20Ausweiskontrolle%20durchf%C3%BChren%20m%C3%BCssen.%3C%2F
 p%3E%0A":Wir wählen unsere/n Direktkandidat*in für den Wahlkreis 3. Bit
 te bringt Euren Personalausweis mit und kommt zahlreich und frühzeitig z
 ur Versammlung\, da wir für die Wahlversammlung eine Ausweiskontrolle du
 rchführen müssen.
CLASS:PUBLIC
DTSTART;TZID=Europe/Berlin:20241204T193000
DTEND;TZID=Europe/Berlin:20241204T210000
DTSTAMP:20260422T081257
END:VEVENT
END:VCALENDAR